BEGIN:VCALENDAR
VERSION:2.0
PRODID:-//Flowers Filmworks - ECPv6.15.3//NONSGML v1.0//EN
CALSCALE:GREGORIAN
METHOD:PUBLISH
X-WR-CALNAME:Flowers Filmworks
X-ORIGINAL-URL:https://flowersfilmworks.com
X-WR-CALDESC:Events for Flowers Filmworks
REFRESH-INTERVAL;VALUE=DURATION:PT1H
X-Robots-Tag:noindex
X-PUBLISHED-TTL:PT1H
BEGIN:VTIMEZONE
TZID:UTC
BEGIN:STANDARD
TZOFFSETFROM:+0000
TZOFFSETTO:+0000
TZNAME:UTC
DTSTART:20230101T000000
END:STANDARD
END:VTIMEZONE
BEGIN:VEVENT
DTSTART;TZID=UTC:20230619T090000
DTEND;TZID=UTC:20230714T160000
DTSTAMP:20260423T181120
CREATED:20230524T155345Z
LAST-MODIFIED:20230621T113427Z
UID:731-1687165200-1689350400@flowersfilmworks.com
SUMMARY:All About You Acting Bootcamp
DESCRIPTION:Content is protected.
URL:https://flowersfilmworks.com/event/all-about-you-acting-bootcamp/
ORGANIZER;CN="Flowers Filmworks":MAILTO:info@flowersfilmworks.com
END:VEVENT
END:VCALENDAR